BEGIN:VCALENDAR
VERSION:2.0
PRODID:-//Midland Independent School District - ECPv5.3.2.1//NONSGML v1.0//EN
CALSCALE:GREGORIAN
METHOD:PUBLISH
X-WR-CALNAME:Midland Independent School District
X-ORIGINAL-URL:http://midland.stdistricts.com
X-WR-CALDESC:Events for Midland Independent School District
BEGIN:VTIMEZONE
TZID:UTC
BEGIN:STANDARD
TZOFFSETFROM:+0000
TZOFFSETTO:+0000
TZNAME:UTC
DTSTART:20230101T000000
END:STANDARD
END:VTIMEZONE
BEGIN:VEVENT
DTSTART;VALUE=DATE:20230412
DTEND;VALUE=DATE:20230413
DTSTAMP:20260424T014141
CREATED:20221102T153535Z
LAST-MODIFIED:20230419T192353Z
UID:5895-1681257600-1681343999@midland.stdistricts.com
SUMMARY:San Jacinto - PLC at Work
DESCRIPTION:
URL:http://midland.stdistricts.com/event/san-jacinto-plc-at-work-5/
LOCATION:San Jacinto
CATEGORIES:PLC at Work,San Jacinto
END:VEVENT
END:VCALENDAR