BEGIN:VCALENDAR
VERSION:2.0
PRODID:-//Midland Independent School District - ECPv5.3.2.1//NONSGML v1.0//EN
CALSCALE:GREGORIAN
METHOD:PUBLISH
X-WR-CALNAME:Midland Independent School District
X-ORIGINAL-URL:http://midland.stdistricts.com
X-WR-CALDESC:Events for Midland Independent School District
BEGIN:VTIMEZONE
TZID:UTC
BEGIN:STANDARD
TZOFFSETFROM:+0000
TZOFFSETTO:+0000
TZNAME:UTC
DTSTART:20230101T000000
END:STANDARD
END:VTIMEZONE
BEGIN:VEVENT
DTSTART;VALUE=DATE:20230224
DTEND;VALUE=DATE:20230225
DTSTAMP:20260424T042953
CREATED:20221013T160707Z
LAST-MODIFIED:20230308T193439Z
UID:5786-1677196800-1677283199@midland.stdistricts.com
SUMMARY:Parker ES - PLC at Work
DESCRIPTION:
URL:http://midland.stdistricts.com/event/parker-es-plc-at-work-9/
LOCATION:Parker ES\, United States
CATEGORIES:Parker ES,PLC at Work
END:VEVENT
BEGIN:VEVENT
DTSTART;VALUE=DATE:20230224
DTEND;VALUE=DATE:20230225
DTSTAMP:20260424T042953
CREATED:20230126T195902Z
LAST-MODIFIED:20230308T193439Z
UID:6026-1677196800-1677283199@midland.stdistricts.com
SUMMARY:Fannin ES - PLC at Work
DESCRIPTION:
URL:http://midland.stdistricts.com/event/fannin-es-plc-at-work-12/
LOCATION:Fannin ES\, United States
CATEGORIES:Fannin ES,PLC at Work
END:VEVENT
END:VCALENDAR