BEGIN:VCALENDAR
VERSION:2.0
PRODID:-//Midland Independent School District - ECPv5.3.2.1//NONSGML v1.0//EN
CALSCALE:GREGORIAN
METHOD:PUBLISH
X-WR-CALNAME:Midland Independent School District
X-ORIGINAL-URL:http://midland.stdistricts.com
X-WR-CALDESC:Events for Midland Independent School District
BEGIN:VTIMEZONE
TZID:UTC
BEGIN:STANDARD
TZOFFSETFROM:+0000
TZOFFSETTO:+0000
TZNAME:UTC
DTSTART:20220101T000000
END:STANDARD
END:VTIMEZONE
BEGIN:VEVENT
DTSTART;VALUE=DATE:20221205
DTEND;VALUE=DATE:20221206
DTSTAMP:20260424T071414
CREATED:20221102T153050Z
LAST-MODIFIED:20221215T144613Z
UID:5873-1670198400-1670284799@midland.stdistricts.com
SUMMARY:Alamo JHS - PLC at Work
DESCRIPTION:
URL:http://midland.stdistricts.com/event/alamo-jhs-plc-at-work-9/
LOCATION:Alamo JHS
CATEGORIES:Alamo JHS,PLC at Work
END:VEVENT
BEGIN:VEVENT
DTSTART;VALUE=DATE:20221205
DTEND;VALUE=DATE:20221206
DTSTAMP:20260424T071414
CREATED:20221215T144613Z
LAST-MODIFIED:20221215T144613Z
UID:5995-1670198400-1670284799@midland.stdistricts.com
SUMMARY:Franks Elementary - PLC at Work
DESCRIPTION:
URL:http://midland.stdistricts.com/event/franks-elementary-plc-at-work/
LOCATION:Franks Elementary
CATEGORIES:Franks Elementary,PLC at Work
END:VEVENT
END:VCALENDAR