BEGIN:VCALENDAR
VERSION:2.0
PRODID:-//Midland Independent School District - ECPv5.3.2.1//NONSGML v1.0//EN
CALSCALE:GREGORIAN
METHOD:PUBLISH
X-WR-CALNAME:Midland Independent School District
X-ORIGINAL-URL:http://midland.stdistricts.com
X-WR-CALDESC:Events for Midland Independent School District
BEGIN:VTIMEZONE
TZID:UTC
BEGIN:STANDARD
TZOFFSETFROM:+0000
TZOFFSETTO:+0000
TZNAME:UTC
DTSTART:20220101T000000
END:STANDARD
END:VTIMEZONE
BEGIN:VEVENT
DTSTART;VALUE=DATE:20221020
DTEND;VALUE=DATE:20221021
DTSTAMP:20260424T112914
CREATED:20221013T160505Z
LAST-MODIFIED:20221102T152907Z
UID:5743-1666224000-1666310399@midland.stdistricts.com
SUMMARY:Midland HS - PLC at Work
DESCRIPTION:
URL:http://midland.stdistricts.com/event/midland-hs-plc-at-work-4/
LOCATION:Midland HS
CATEGORIES:Midland HS,PLC at Work
END:VEVENT
END:VCALENDAR