BEGIN:VCALENDAR
VERSION:2.0
PRODID:-//Midland Independent School District - ECPv5.3.2.1//NONSGML v1.0//EN
CALSCALE:GREGORIAN
METHOD:PUBLISH
X-WR-CALNAME:Midland Independent School District
X-ORIGINAL-URL:http://midland.stdistricts.com
X-WR-CALDESC:Events for Midland Independent School District
BEGIN:VTIMEZONE
TZID:UTC
BEGIN:STANDARD
TZOFFSETFROM:+0000
TZOFFSETTO:+0000
TZNAME:UTC
DTSTART:20220101T000000
END:STANDARD
END:VTIMEZONE
BEGIN:VEVENT
DTSTART;VALUE=DATE:20220613
DTEND;VALUE=DATE:20220614
DTSTAMP:20260424T155304
CREATED:20220401T143230Z
LAST-MODIFIED:20220615T150648Z
UID:5433-1655078400-1655164799@midland.stdistricts.com
SUMMARY:Midland Independent School District - Author Topics
DESCRIPTION:
URL:http://midland.stdistricts.com/event/midland-independent-school-district-author-topics-3/
LOCATION:Midland Independent School District
CATEGORIES:Author Topics,Midland Independent School District
END:VEVENT
BEGIN:VEVENT
DTSTART;VALUE=DATE:20220613
DTEND;VALUE=DATE:20220614
DTSTAMP:20260424T155304
CREATED:20220401T143230Z
LAST-MODIFIED:20220615T150648Z
UID:5434-1655078400-1655164799@midland.stdistricts.com
SUMMARY:Bowie Fine Arts ES - PLC at Work
DESCRIPTION:
URL:http://midland.stdistricts.com/event/bowie-fine-arts-es-plc-at-work-5/
LOCATION:Bowie Fine Arts ES
CATEGORIES:Bowie Fine Arts ES,PLC at Work
END:VEVENT
BEGIN:VEVENT
DTSTART;VALUE=DATE:20220613
DTEND;VALUE=DATE:20220614
DTSTAMP:20260424T155304
CREATED:20220401T143230Z
LAST-MODIFIED:20220615T150648Z
UID:5435-1655078400-1655164799@midland.stdistricts.com
SUMMARY:Fannin Elementary - PLC at Work
DESCRIPTION:
URL:http://midland.stdistricts.com/event/fannin-elementary-plc-at-work-7/
LOCATION:Fannin Elementary
CATEGORIES:Fannin Elementary,PLC at Work
END:VEVENT
BEGIN:VEVENT
DTSTART;VALUE=DATE:20220613
DTEND;VALUE=DATE:20220614
DTSTAMP:20260424T155304
CREATED:20220505T184430Z
LAST-MODIFIED:20220615T150634Z
UID:5562-1655078400-1655164799@midland.stdistricts.com
SUMMARY:Midland Independent School District - PLC at Work
DESCRIPTION:
URL:http://midland.stdistricts.com/event/midland-independent-school-district-plc-at-work-16/
LOCATION:Midland Independent School District
CATEGORIES:Midland Independent School District,PLC at Work
END:VEVENT
END:VCALENDAR