BEGIN:VCALENDAR
VERSION:2.0
PRODID:-//Midland Independent School District - ECPv5.3.2.1//NONSGML v1.0//EN
CALSCALE:GREGORIAN
METHOD:PUBLISH
X-WR-CALNAME:Midland Independent School District
X-ORIGINAL-URL:http://midland.stdistricts.com
X-WR-CALDESC:Events for Midland Independent School District
BEGIN:VTIMEZONE
TZID:UTC
BEGIN:STANDARD
TZOFFSETFROM:+0000
TZOFFSETTO:+0000
TZNAME:UTC
DTSTART:20180101T000000
END:STANDARD
END:VTIMEZONE
BEGIN:VEVENT
DTSTART;VALUE=DATE:20180205
DTEND;VALUE=DATE:20180206
DTSTAMP:20260424T084644
CREATED:20180314T121946Z
LAST-MODIFIED:20180314T121946Z
UID:4812-1517788800-1517875199@midland.stdistricts.com
SUMMARY:Washington Math and Science ES
DESCRIPTION:
URL:http://midland.stdistricts.com/event/washington-math-and-science-es-72/
LOCATION:Washington Math and Science ES\, United States
END:VEVENT
END:VCALENDAR