BEGIN:VCALENDAR
VERSION:2.0
PRODID:-//Midland Independent School District - ECPv5.3.2.1//NONSGML v1.0//EN
CALSCALE:GREGORIAN
METHOD:PUBLISH
X-WR-CALNAME:Midland Independent School District
X-ORIGINAL-URL:http://midland.stdistricts.com
X-WR-CALDESC:Events for Midland Independent School District
BEGIN:VTIMEZONE
TZID:UTC
BEGIN:STANDARD
TZOFFSETFROM:+0000
TZOFFSETTO:+0000
TZNAME:UTC
DTSTART:20230101T000000
END:STANDARD
END:VTIMEZONE
BEGIN:VEVENT
DTSTART;VALUE=DATE:20230601
DTEND;VALUE=DATE:20230602
DTSTAMP:20260423T222101
CREATED:20230517T172117Z
LAST-MODIFIED:20230614T140253Z
UID:6085-1685577600-1685663999@midland.stdistricts.com
SUMMARY:Santa Rita - PLC at Work
DESCRIPTION:
URL:http://midland.stdistricts.com/event/santa-rita-plc-at-work-5/
LOCATION:Santa Rita
CATEGORIES:PLC at Work,Santa Rita
END:VEVENT
END:VCALENDAR