BEGIN:VCALENDAR
VERSION:2.0
PRODID:-//Midland Independent School District - ECPv5.3.2.1//NONSGML v1.0//EN
CALSCALE:GREGORIAN
METHOD:PUBLISH
X-WR-CALNAME:Midland Independent School District
X-ORIGINAL-URL:http://midland.stdistricts.com
X-WR-CALDESC:Events for Midland Independent School District
BEGIN:VTIMEZONE
TZID:UTC
BEGIN:STANDARD
TZOFFSETFROM:+0000
TZOFFSETTO:+0000
TZNAME:UTC
DTSTART:20220101T000000
END:STANDARD
END:VTIMEZONE
BEGIN:VEVENT
DTSTART;VALUE=DATE:20220520
DTEND;VALUE=DATE:20220521
DTSTAMP:20260424T025742
CREATED:20220427T133212Z
LAST-MODIFIED:20220602T141212Z
UID:5539-1653004800-1653091199@midland.stdistricts.com
SUMMARY:Santa Rita - PLC at Work
DESCRIPTION:
URL:http://midland.stdistricts.com/event/santa-rita-plc-at-work-2/
LOCATION:Santa Rita
CATEGORIES:PLC at Work,Santa Rita
END:VEVENT
END:VCALENDAR