BEGIN:VCALENDAR
VERSION:2.0
PRODID:-//Midland Independent School District - ECPv5.3.2.1//NONSGML v1.0//EN
CALSCALE:GREGORIAN
METHOD:PUBLISH
X-WR-CALNAME:Midland Independent School District
X-ORIGINAL-URL:http://midland.stdistricts.com
X-WR-CALDESC:Events for Midland Independent School District
BEGIN:VTIMEZONE
TZID:UTC
BEGIN:STANDARD
TZOFFSETFROM:+0000
TZOFFSETTO:+0000
TZNAME:UTC
DTSTART:20180101T000000
END:STANDARD
END:VTIMEZONE
BEGIN:VEVENT
DTSTART;VALUE=DATE:20180109
DTEND;VALUE=DATE:20180110
DTSTAMP:20260424T054459
CREATED:20180213T151853Z
LAST-MODIFIED:20180213T151853Z
UID:4669-1515456000-1515542399@midland.stdistricts.com
SUMMARY:Santa Rita ES
DESCRIPTION:
URL:http://midland.stdistricts.com/event/santa-rita-es-63/
LOCATION:Santa Rita ES\, United States
END:VEVENT
END:VCALENDAR