BEGIN:VCALENDAR
VERSION:2.0
PRODID:-//Midland Independent School District - ECPv5.3.2.1//NONSGML v1.0//EN
CALSCALE:GREGORIAN
METHOD:PUBLISH
X-WR-CALNAME:Midland Independent School District
X-ORIGINAL-URL:http://midland.stdistricts.com
X-WR-CALDESC:Events for Midland Independent School District
BEGIN:VTIMEZONE
TZID:UTC
BEGIN:STANDARD
TZOFFSETFROM:+0000
TZOFFSETTO:+0000
TZNAME:UTC
DTSTART:20160101T000000
END:STANDARD
END:VTIMEZONE
BEGIN:VEVENT
DTSTART;VALUE=DATE:20161128
DTEND;VALUE=DATE:20161129
DTSTAMP:20260424T133240
CREATED:20170412T131055Z
LAST-MODIFIED:20170412T131055Z
UID:1475-1480291200-1480377599@midland.stdistricts.com
SUMMARY:San Jacinto Jr. High
DESCRIPTION:
URL:http://midland.stdistricts.com/event/san-jacinto-jr-high-18/
LOCATION:San Jacinto Jr. High\, United States
END:VEVENT
END:VCALENDAR