BEGIN:VCALENDAR
VERSION:2.0
PRODID:-//Midland Independent School District - ECPv5.3.2.1//NONSGML v1.0//EN
CALSCALE:GREGORIAN
METHOD:PUBLISH
X-WR-CALNAME:Midland Independent School District
X-ORIGINAL-URL:http://midland.stdistricts.com
X-WR-CALDESC:Events for Midland Independent School District
BEGIN:VTIMEZONE
TZID:UTC
BEGIN:STANDARD
TZOFFSETFROM:+0000
TZOFFSETTO:+0000
TZNAME:UTC
DTSTART:20170101T000000
END:STANDARD
END:VTIMEZONE
BEGIN:VEVENT
DTSTART;VALUE=DATE:20171207
DTEND;VALUE=DATE:20171208
DTSTAMP:20260424T072950
CREATED:20180130T184952Z
LAST-MODIFIED:20180130T184952Z
UID:4521-1512604800-1512691199@midland.stdistricts.com
SUMMARY:Rusk ES
DESCRIPTION:
URL:http://midland.stdistricts.com/event/rusk-es-48/
LOCATION:Rusk ES\, United States
END:VEVENT
END:VCALENDAR