BEGIN:VCALENDAR
VERSION:2.0
PRODID:-//Midland Independent School District - ECPv5.3.2.1//NONSGML v1.0//EN
CALSCALE:GREGORIAN
METHOD:PUBLISH
X-WR-CALNAME:Midland Independent School District
X-ORIGINAL-URL:http://midland.stdistricts.com
X-WR-CALDESC:Events for Midland Independent School District
BEGIN:VTIMEZONE
TZID:UTC
BEGIN:STANDARD
TZOFFSETFROM:+0000
TZOFFSETTO:+0000
TZNAME:UTC
DTSTART:20160101T000000
END:STANDARD
END:VTIMEZONE
BEGIN:VEVENT
DTSTART;VALUE=DATE:20160807
DTEND;VALUE=DATE:20160808
DTSTAMP:20260424T162334
CREATED:20170412T131118Z
LAST-MODIFIED:20170412T131118Z
UID:1513-1470528000-1470614399@midland.stdistricts.com
SUMMARY:Project Management
DESCRIPTION:
URL:http://midland.stdistricts.com/event/project-management-4/
LOCATION:Project Management\, United States
END:VEVENT
END:VCALENDAR