BEGIN:VCALENDAR
VERSION:2.0
PRODID:-//Midland Independent School District - ECPv5.3.2.1//NONSGML v1.0//EN
CALSCALE:GREGORIAN
METHOD:PUBLISH
X-WR-CALNAME:Midland Independent School District
X-ORIGINAL-URL:http://midland.stdistricts.com
X-WR-CALDESC:Events for Midland Independent School District
BEGIN:VTIMEZONE
TZID:UTC
BEGIN:STANDARD
TZOFFSETFROM:+0000
TZOFFSETTO:+0000
TZNAME:UTC
DTSTART:20160101T000000
END:STANDARD
END:VTIMEZONE
BEGIN:VEVENT
DTSTART;VALUE=DATE:20160815
DTEND;VALUE=DATE:20160816
DTSTAMP:20260424T152808
CREATED:20170412T131115Z
LAST-MODIFIED:20170412T131115Z
UID:1505-1471219200-1471305599@midland.stdistricts.com
SUMMARY:PLC Overview
DESCRIPTION:
URL:http://midland.stdistricts.com/event/plc-overview-30/
LOCATION:PLC Overview\, United States
END:VEVENT
END:VCALENDAR