BEGIN:VCALENDAR
VERSION:2.0
PRODID:-//Midland Independent School District - ECPv5.3.2.1//NONSGML v1.0//EN
CALSCALE:GREGORIAN
METHOD:PUBLISH
X-WR-CALNAME:Midland Independent School District
X-ORIGINAL-URL:http://midland.stdistricts.com
X-WR-CALDESC:Events for Midland Independent School District
BEGIN:VTIMEZONE
TZID:UTC
BEGIN:STANDARD
TZOFFSETFROM:+0000
TZOFFSETTO:+0000
TZNAME:UTC
DTSTART:20160101T000000
END:STANDARD
END:VTIMEZONE
BEGIN:VEVENT
DTSTART;VALUE=DATE:20160920
DTEND;VALUE=DATE:20160921
DTSTAMP:20260424T115223
CREATED:20170412T131049Z
LAST-MODIFIED:20170412T131049Z
UID:1463-1474329600-1474415999@midland.stdistricts.com
SUMMARY:Milam ES
DESCRIPTION:
URL:http://midland.stdistricts.com/event/milam-es-13/
LOCATION:Milam ES\, United States
END:VEVENT
END:VCALENDAR