BEGIN:VCALENDAR
VERSION:2.0
PRODID:-//Midland Independent School District - ECPv5.3.2.1//NONSGML v1.0//EN
CALSCALE:GREGORIAN
METHOD:PUBLISH
X-WR-CALNAME:Midland Independent School District
X-ORIGINAL-URL:http://midland.stdistricts.com
X-WR-CALDESC:Events for Midland Independent School District
BEGIN:VTIMEZONE
TZID:UTC
BEGIN:STANDARD
TZOFFSETFROM:+0000
TZOFFSETTO:+0000
TZNAME:UTC
DTSTART:20210101T000000
END:STANDARD
END:VTIMEZONE
BEGIN:VEVENT
DTSTART;VALUE=DATE:20211130
DTEND;VALUE=DATE:20211201
DTSTAMP:20260424T153202
CREATED:20220401T141539Z
LAST-MODIFIED:20220401T141539Z
UID:5354-1638230400-1638316799@midland.stdistricts.com
SUMMARY:Milam Elementary School - PLC at Work
DESCRIPTION:
URL:http://midland.stdistricts.com/event/milam-elementary-school-plc-at-work-4/
LOCATION:Milam Elementary School
CATEGORIES:Milam Elementary School,PLC at Work
END:VEVENT
END:VCALENDAR