BEGIN:VCALENDAR
VERSION:2.0
PRODID:-//Midland Independent School District - ECPv5.3.2.1//NONSGML v1.0//EN
CALSCALE:GREGORIAN
METHOD:PUBLISH
X-WR-CALNAME:Midland Independent School District
X-ORIGINAL-URL:http://midland.stdistricts.com
X-WR-CALDESC:Events for Midland Independent School District
BEGIN:VTIMEZONE
TZID:UTC
BEGIN:STANDARD
TZOFFSETFROM:+0000
TZOFFSETTO:+0000
TZNAME:UTC
DTSTART:20180101T000000
END:STANDARD
END:VTIMEZONE
BEGIN:VEVENT
DTSTART;VALUE=DATE:20180124
DTEND;VALUE=DATE:20180125
DTSTAMP:20260424T102615
CREATED:20180213T151851Z
LAST-MODIFIED:20180213T151851Z
UID:4665-1516752000-1516838399@midland.stdistricts.com
SUMMARY:Midland Senior HS
DESCRIPTION:
URL:http://midland.stdistricts.com/event/midland-senior-hs-69/
LOCATION:Midland Senior HS\, United States
END:VEVENT
END:VCALENDAR