BEGIN:VCALENDAR
VERSION:2.0
PRODID:-//Midland Independent School District - ECPv5.3.2.1//NONSGML v1.0//EN
CALSCALE:GREGORIAN
METHOD:PUBLISH
X-WR-CALNAME:Midland Independent School District
X-ORIGINAL-URL:http://midland.stdistricts.com
X-WR-CALDESC:Events for Midland Independent School District
BEGIN:VTIMEZONE
TZID:UTC
BEGIN:STANDARD
TZOFFSETFROM:+0000
TZOFFSETTO:+0000
TZNAME:UTC
DTSTART:20170101T000000
END:STANDARD
END:VTIMEZONE
BEGIN:VEVENT
DTSTART;VALUE=DATE:20170913
DTEND;VALUE=DATE:20170914
DTSTAMP:20260424T073845
CREATED:20171013T192234Z
LAST-MODIFIED:20171013T192234Z
UID:3638-1505260800-1505347199@midland.stdistricts.com
SUMMARY:Midland Senior HS
DESCRIPTION:
URL:http://midland.stdistricts.com/event/midland-senior-hs-52/
LOCATION:Midland Senior HS\, United States
END:VEVENT
END:VCALENDAR