BEGIN:VCALENDAR
VERSION:2.0
PRODID:-//Midland Independent School District - ECPv5.3.2.1//NONSGML v1.0//EN
CALSCALE:GREGORIAN
METHOD:PUBLISH
X-WR-CALNAME:Midland Independent School District
X-ORIGINAL-URL:http://midland.stdistricts.com
X-WR-CALDESC:Events for Midland Independent School District
BEGIN:VTIMEZONE
TZID:UTC
BEGIN:STANDARD
TZOFFSETFROM:+0000
TZOFFSETTO:+0000
TZNAME:UTC
DTSTART:20220101T000000
END:STANDARD
END:VTIMEZONE
BEGIN:VEVENT
DTSTART;VALUE=DATE:20220418
DTEND;VALUE=DATE:20220419
DTSTAMP:20260424T091306
CREATED:20220427T132136Z
LAST-MODIFIED:20220427T132136Z
UID:5538-1650240000-1650326399@midland.stdistricts.com
SUMMARY:Midland Independent School District - PLC at Work
DESCRIPTION:
URL:http://midland.stdistricts.com/event/midland-independent-school-district-plc-at-work-15/
LOCATION:Midland Independent School District
CATEGORIES:Midland Independent School District,PLC at Work
END:VEVENT
END:VCALENDAR