BEGIN:VCALENDAR
VERSION:2.0
PRODID:-//Midland Independent School District - ECPv5.3.2.1//NONSGML v1.0//EN
CALSCALE:GREGORIAN
METHOD:PUBLISH
X-WR-CALNAME:Midland Independent School District
X-ORIGINAL-URL:http://midland.stdistricts.com
X-WR-CALDESC:Events for Midland Independent School District
BEGIN:VTIMEZONE
TZID:UTC
BEGIN:STANDARD
TZOFFSETFROM:+0000
TZOFFSETTO:+0000
TZNAME:UTC
DTSTART:20220101T000000
END:STANDARD
END:VTIMEZONE
BEGIN:VEVENT
DTSTART;VALUE=DATE:20220609
DTEND;VALUE=DATE:20220610
DTSTAMP:20260424T102627
CREATED:20220401T143030Z
LAST-MODIFIED:20220615T150633Z
UID:5429-1654732800-1654819199@midland.stdistricts.com
SUMMARY:Midland Independent School District - Author Topics
DESCRIPTION:
URL:http://midland.stdistricts.com/event/midland-independent-school-district-author-topics-2/
LOCATION:Midland Independent School District
CATEGORIES:Author Topics,Midland Independent School District
END:VEVENT
END:VCALENDAR