BEGIN:VCALENDAR
VERSION:2.0
PRODID:-//Midland Independent School District - ECPv5.3.2.1//NONSGML v1.0//EN
CALSCALE:GREGORIAN
METHOD:PUBLISH
X-WR-CALNAME:Midland Independent School District
X-ORIGINAL-URL:http://midland.stdistricts.com
X-WR-CALDESC:Events for Midland Independent School District
BEGIN:VTIMEZONE
TZID:UTC
BEGIN:STANDARD
TZOFFSETFROM:+0000
TZOFFSETTO:+0000
TZNAME:UTC
DTSTART:20220101T000000
END:STANDARD
END:VTIMEZONE
BEGIN:VEVENT
DTSTART;VALUE=DATE:20221216
DTEND;VALUE=DATE:20221217
DTSTAMP:20260424T025742
CREATED:20221102T153104Z
LAST-MODIFIED:20230111T160113Z
UID:5876-1671148800-1671235199@midland.stdistricts.com
SUMMARY:Midland HS - PLC at Work
DESCRIPTION:
URL:http://midland.stdistricts.com/event/midland-hs-plc-at-work-9/
LOCATION:Midland HS
CATEGORIES:Midland HS,PLC at Work
END:VEVENT
END:VCALENDAR