BEGIN:VCALENDAR
VERSION:2.0
PRODID:-//Midland Independent School District - ECPv5.3.2.1//NONSGML v1.0//EN
CALSCALE:GREGORIAN
METHOD:PUBLISH
X-WR-CALNAME:Midland Independent School District
X-ORIGINAL-URL:http://midland.stdistricts.com
X-WR-CALDESC:Events for Midland Independent School District
BEGIN:VTIMEZONE
TZID:UTC
BEGIN:STANDARD
TZOFFSETFROM:+0000
TZOFFSETTO:+0000
TZNAME:UTC
DTSTART:20220101T000000
END:STANDARD
END:VTIMEZONE
BEGIN:VEVENT
DTSTART;VALUE=DATE:20220315
DTEND;VALUE=DATE:20220316
DTSTAMP:20260424T121045
CREATED:20220401T141609Z
LAST-MODIFIED:20220401T141609Z
UID:5362-1647302400-1647388799@midland.stdistricts.com
SUMMARY:Midland Freshman High School - PLC at Work
DESCRIPTION:
URL:http://midland.stdistricts.com/event/midland-freshman-high-school-plc-at-work-4/
LOCATION:Midland Freshman High School\, United States
CATEGORIES:Midland Freshman High School,PLC at Work
END:VEVENT
END:VCALENDAR