BEGIN:VCALENDAR
VERSION:2.0
PRODID:-//Midland Independent School District - ECPv5.3.2.1//NONSGML v1.0//EN
CALSCALE:GREGORIAN
METHOD:PUBLISH
X-WR-CALNAME:Midland Independent School District
X-ORIGINAL-URL:http://midland.stdistricts.com
X-WR-CALDESC:Events for Midland Independent School District
BEGIN:VTIMEZONE
TZID:UTC
BEGIN:STANDARD
TZOFFSETFROM:+0000
TZOFFSETTO:+0000
TZNAME:UTC
DTSTART:20170101T000000
END:STANDARD
END:VTIMEZONE
BEGIN:VEVENT
DTSTART;VALUE=DATE:20170301
DTEND;VALUE=DATE:20170302
DTSTAMP:20260424T131923
CREATED:20170412T131044Z
LAST-MODIFIED:20170412T131044Z
UID:1452-1488326400-1488412799@midland.stdistricts.com
SUMMARY:Long ES
DESCRIPTION:
URL:http://midland.stdistricts.com/event/long-es-10/
LOCATION:Long ES\, United States
END:VEVENT
END:VCALENDAR