BEGIN:VCALENDAR
VERSION:2.0
PRODID:-//Midland Independent School District - ECPv5.3.2.1//NONSGML v1.0//EN
CALSCALE:GREGORIAN
METHOD:PUBLISH
X-WR-CALNAME:Midland Independent School District
X-ORIGINAL-URL:http://midland.stdistricts.com
X-WR-CALDESC:Events for Midland Independent School District
BEGIN:VTIMEZONE
TZID:UTC
BEGIN:STANDARD
TZOFFSETFROM:+0000
TZOFFSETTO:+0000
TZNAME:UTC
DTSTART:20220101T000000
END:STANDARD
END:VTIMEZONE
BEGIN:VEVENT
DTSTART;VALUE=DATE:20220304
DTEND;VALUE=DATE:20220305
DTSTAMP:20260424T103935
CREATED:20220401T141554Z
LAST-MODIFIED:20220401T141554Z
UID:5360-1646352000-1646438399@midland.stdistricts.com
SUMMARY:Long Elementary - PLC at Work
DESCRIPTION:
URL:http://midland.stdistricts.com/event/long-elementary-plc-at-work/
LOCATION:Long Elementary
CATEGORIES:Long Elementary,PLC at Work
END:VEVENT
END:VCALENDAR