BEGIN:VCALENDAR
VERSION:2.0
PRODID:-//Midland Independent School District - ECPv5.3.2.1//NONSGML v1.0//EN
CALSCALE:GREGORIAN
METHOD:PUBLISH
X-WR-CALNAME:Midland Independent School District
X-ORIGINAL-URL:http://midland.stdistricts.com
X-WR-CALDESC:Events for Midland Independent School District
BEGIN:VTIMEZONE
TZID:UTC
BEGIN:STANDARD
TZOFFSETFROM:+0000
TZOFFSETTO:+0000
TZNAME:UTC
DTSTART:20220101T000000
END:STANDARD
END:VTIMEZONE
BEGIN:VEVENT
DTSTART;VALUE=DATE:20220428
DTEND;VALUE=DATE:20220429
DTSTAMP:20260424T071258
CREATED:20220401T142355Z
LAST-MODIFIED:20220505T183620Z
UID:5402-1651104000-1651190399@midland.stdistricts.com
SUMMARY:Legacy HS - PLC at Work
DESCRIPTION:
URL:http://midland.stdistricts.com/event/legacy-hs-plc-at-work/
LOCATION:Legacy HS
CATEGORIES:Legacy HS,PLC at Work
END:VEVENT
END:VCALENDAR