BEGIN:VCALENDAR
VERSION:2.0
PRODID:-//Midland Independent School District - ECPv5.3.2.1//NONSGML v1.0//EN
CALSCALE:GREGORIAN
METHOD:PUBLISH
X-WR-CALNAME:Midland Independent School District
X-ORIGINAL-URL:http://midland.stdistricts.com
X-WR-CALDESC:Events for Midland Independent School District
BEGIN:VTIMEZONE
TZID:UTC
BEGIN:STANDARD
TZOFFSETFROM:+0000
TZOFFSETTO:+0000
TZNAME:UTC
DTSTART:20170101T000000
END:STANDARD
END:VTIMEZONE
BEGIN:VEVENT
DTSTART;VALUE=DATE:20170124
DTEND;VALUE=DATE:20170125
DTSTAMP:20260424T102436
CREATED:20170412T131028Z
LAST-MODIFIED:20170412T131028Z
UID:1438-1485216000-1485302399@midland.stdistricts.com
SUMMARY:Lee Freshman HS
DESCRIPTION:
URL:http://midland.stdistricts.com/event/lee-freshman-hs-18/
LOCATION:Lee Freshman HS\, United States
END:VEVENT
END:VCALENDAR