BEGIN:VCALENDAR
VERSION:2.0
PRODID:-//Midland Independent School District - ECPv5.3.2.1//NONSGML v1.0//EN
CALSCALE:GREGORIAN
METHOD:PUBLISH
X-WR-CALNAME:Midland Independent School District
X-ORIGINAL-URL:http://midland.stdistricts.com
X-WR-CALDESC:Events for Midland Independent School District
BEGIN:VTIMEZONE
TZID:UTC
BEGIN:STANDARD
TZOFFSETFROM:+0000
TZOFFSETTO:+0000
TZNAME:UTC
DTSTART:20170101T000000
END:STANDARD
END:VTIMEZONE
BEGIN:VEVENT
DTSTART;VALUE=DATE:20170106
DTEND;VALUE=DATE:20170107
DTSTAMP:20260424T132833
CREATED:20170412T131023Z
LAST-MODIFIED:20170412T131023Z
UID:1428-1483660800-1483747199@midland.stdistricts.com
SUMMARY:Henderson ES
DESCRIPTION:
URL:http://midland.stdistricts.com/event/henderson-es-22/
LOCATION:Henderson ES\, United States
END:VEVENT
END:VCALENDAR