BEGIN:VCALENDAR
VERSION:2.0
PRODID:-//Midland Independent School District - ECPv5.3.2.1//NONSGML v1.0//EN
CALSCALE:GREGORIAN
METHOD:PUBLISH
X-WR-CALNAME:Midland Independent School District
X-ORIGINAL-URL:http://midland.stdistricts.com
X-WR-CALDESC:Events for Midland Independent School District
BEGIN:VTIMEZONE
TZID:UTC
BEGIN:STANDARD
TZOFFSETFROM:+0000
TZOFFSETTO:+0000
TZNAME:UTC
DTSTART:20170101T000000
END:STANDARD
END:VTIMEZONE
BEGIN:VEVENT
DTSTART;VALUE=DATE:20171130
DTEND;VALUE=DATE:20171201
DTSTAMP:20260424T073015
CREATED:20171207T191614Z
LAST-MODIFIED:20171207T191614Z
UID:4207-1512000000-1512086399@midland.stdistricts.com
SUMMARY:Greathouse ES
DESCRIPTION:
URL:http://midland.stdistricts.com/event/greathouse-es-53/
LOCATION:Greathouse ES\, United States
END:VEVENT
END:VCALENDAR