BEGIN:VCALENDAR
VERSION:2.0
PRODID:-//Midland Independent School District - ECPv5.3.2.1//NONSGML v1.0//EN
CALSCALE:GREGORIAN
METHOD:PUBLISH
X-WR-CALNAME:Midland Independent School District
X-ORIGINAL-URL:http://midland.stdistricts.com
X-WR-CALDESC:Events for Midland Independent School District
BEGIN:VTIMEZONE
TZID:UTC
BEGIN:STANDARD
TZOFFSETFROM:+0000
TZOFFSETTO:+0000
TZNAME:UTC
DTSTART:20170101T000000
END:STANDARD
END:VTIMEZONE
BEGIN:VEVENT
DTSTART;VALUE=DATE:20170823
DTEND;VALUE=DATE:20170825
DTSTAMP:20260424T100904
CREATED:20171013T192226Z
LAST-MODIFIED:20171013T192226Z
UID:3609-1503446400-1503619199@midland.stdistricts.com
SUMMARY:Grading Day
DESCRIPTION:
URL:http://midland.stdistricts.com/event/grading-day-14/
LOCATION:Grading Day\, United States
END:VEVENT
END:VCALENDAR