BEGIN:VCALENDAR
VERSION:2.0
PRODID:-//Midland Independent School District - ECPv5.3.2.1//NONSGML v1.0//EN
CALSCALE:GREGORIAN
METHOD:PUBLISH
X-WR-CALNAME:Midland Independent School District
X-ORIGINAL-URL:http://midland.stdistricts.com
X-WR-CALDESC:Events for Midland Independent School District
BEGIN:VTIMEZONE
TZID:UTC
BEGIN:STANDARD
TZOFFSETFROM:+0000
TZOFFSETTO:+0000
TZNAME:UTC
DTSTART:20180101T000000
END:STANDARD
END:VTIMEZONE
BEGIN:VEVENT
DTSTART;VALUE=DATE:20181203
DTEND;VALUE=DATE:20181204
DTSTAMP:20260424T072209
CREATED:20181019T011622Z
LAST-MODIFIED:20181019T011622Z
UID:4945-1543795200-1543881599@midland.stdistricts.com
SUMMARY:General Tommy Franks ES
DESCRIPTION:
URL:http://midland.stdistricts.com/event/general-tommy-franks-es-76/
LOCATION:General Tommy Franks ES\, United States
END:VEVENT
END:VCALENDAR