BEGIN:VCALENDAR
VERSION:2.0
PRODID:-//Midland Independent School District - ECPv5.3.2.1//NONSGML v1.0//EN
CALSCALE:GREGORIAN
METHOD:PUBLISH
X-WR-CALNAME:Midland Independent School District
X-ORIGINAL-URL:http://midland.stdistricts.com
X-WR-CALDESC:Events for Midland Independent School District
BEGIN:VTIMEZONE
TZID:UTC
BEGIN:STANDARD
TZOFFSETFROM:+0000
TZOFFSETTO:+0000
TZNAME:UTC
DTSTART:20180101T000000
END:STANDARD
END:VTIMEZONE
BEGIN:VEVENT
DTSTART;VALUE=DATE:20180425
DTEND;VALUE=DATE:20180426
DTSTAMP:20260424T074520
CREATED:20180409T184113Z
LAST-MODIFIED:20180409T184113Z
UID:4893-1524614400-1524700799@midland.stdistricts.com
SUMMARY:General Tommy Franks ES
DESCRIPTION:
URL:http://midland.stdistricts.com/event/general-tommy-franks-es-74/
LOCATION:General Tommy Franks ES\, United States
END:VEVENT
END:VCALENDAR