BEGIN:VCALENDAR
VERSION:2.0
PRODID:-//Midland Independent School District - ECPv5.3.2.1//NONSGML v1.0//EN
CALSCALE:GREGORIAN
METHOD:PUBLISH
X-WR-CALNAME:Midland Independent School District
X-ORIGINAL-URL:http://midland.stdistricts.com
X-WR-CALDESC:Events for Midland Independent School District
BEGIN:VTIMEZONE
TZID:UTC
BEGIN:STANDARD
TZOFFSETFROM:+0000
TZOFFSETTO:+0000
TZNAME:UTC
DTSTART:20230101T000000
END:STANDARD
END:VTIMEZONE
BEGIN:VEVENT
DTSTART;VALUE=DATE:20230524
DTEND;VALUE=DATE:20230525
DTSTAMP:20260423T235634
CREATED:20230517T172117Z
LAST-MODIFIED:20230601T200907Z
UID:6084-1684886400-1684972799@midland.stdistricts.com
SUMMARY:Fannin ES - PLC at Work
DESCRIPTION:
URL:http://midland.stdistricts.com/event/fannin-es-plc-at-work-13/
LOCATION:Fannin ES\, United States
CATEGORIES:Fannin ES,PLC at Work
END:VEVENT
END:VCALENDAR