BEGIN:VCALENDAR
VERSION:2.0
PRODID:-//Midland Independent School District - ECPv5.3.2.1//NONSGML v1.0//EN
CALSCALE:GREGORIAN
METHOD:PUBLISH
X-WR-CALNAME:Midland Independent School District
X-ORIGINAL-URL:http://midland.stdistricts.com
X-WR-CALDESC:Events for Midland Independent School District
BEGIN:VTIMEZONE
TZID:UTC
BEGIN:STANDARD
TZOFFSETFROM:+0000
TZOFFSETTO:+0000
TZNAME:UTC
DTSTART:20170101T000000
END:STANDARD
END:VTIMEZONE
BEGIN:VEVENT
DTSTART;VALUE=DATE:20171221
DTEND;VALUE=DATE:20171222
DTSTAMP:20260424T074617
CREATED:20170331T140949Z
LAST-MODIFIED:20170331T202949Z
UID:1221-1513814400-1513900799@midland.stdistricts.com
SUMMARY:MISD End of First Semester\, Early Release
DESCRIPTION:
URL:http://midland.stdistricts.com/event/end-of-first-semester-early-release/
END:VEVENT
END:VCALENDAR