BEGIN:VCALENDAR
VERSION:2.0
PRODID:-//Midland Independent School District - ECPv5.3.2.1//NONSGML v1.0//EN
CALSCALE:GREGORIAN
METHOD:PUBLISH
X-WR-CALNAME:Midland Independent School District
X-ORIGINAL-URL:http://midland.stdistricts.com
X-WR-CALDESC:Events for Midland Independent School District
BEGIN:VTIMEZONE
TZID:UTC
BEGIN:STANDARD
TZOFFSETFROM:+0000
TZOFFSETTO:+0000
TZNAME:UTC
DTSTART:20160101T000000
END:STANDARD
END:VTIMEZONE
BEGIN:VEVENT
DTSTART;VALUE=DATE:20160915
DTEND;VALUE=DATE:20160916
DTSTAMP:20260424T132910
CREATED:20170412T131018Z
LAST-MODIFIED:20170412T131018Z
UID:1415-1473897600-1473983999@midland.stdistricts.com
SUMMARY:Crockett ES
DESCRIPTION:
URL:http://midland.stdistricts.com/event/crockett-es-13/
LOCATION:Crockett ES\, United States
END:VEVENT
END:VCALENDAR