BEGIN:VCALENDAR
VERSION:2.0
PRODID:-//Midland Independent School District - ECPv5.3.2.1//NONSGML v1.0//EN
CALSCALE:GREGORIAN
METHOD:PUBLISH
X-WR-CALNAME:Midland Independent School District
X-ORIGINAL-URL:http://midland.stdistricts.com
X-WR-CALDESC:Events for Midland Independent School District
BEGIN:VTIMEZONE
TZID:UTC
BEGIN:STANDARD
TZOFFSETFROM:+0000
TZOFFSETTO:+0000
TZNAME:UTC
DTSTART:20180101T000000
END:STANDARD
END:VTIMEZONE
BEGIN:VEVENT
DTSTART;VALUE=DATE:20180111
DTEND;VALUE=DATE:20180113
DTSTAMP:20260424T054320
CREATED:20180213T151844Z
LAST-MODIFIED:20180213T151844Z
UID:4651-1515628800-1515801599@midland.stdistricts.com
SUMMARY:Coaching Academy
DESCRIPTION:
URL:http://midland.stdistricts.com/event/coaching-academy-56/
LOCATION:Coaching Academy\, United States
END:VEVENT
END:VCALENDAR