BEGIN:VCALENDAR
VERSION:2.0
PRODID:-//Midland Independent School District - ECPv5.3.2.1//NONSGML v1.0//EN
CALSCALE:GREGORIAN
METHOD:PUBLISH
X-WR-CALNAME:Midland Independent School District
X-ORIGINAL-URL:http://midland.stdistricts.com
X-WR-CALDESC:Events for Midland Independent School District
BEGIN:VTIMEZONE
TZID:UTC
BEGIN:STANDARD
TZOFFSETFROM:+0000
TZOFFSETTO:+0000
TZNAME:UTC
DTSTART:20180101T000000
END:STANDARD
END:VTIMEZONE
BEGIN:VEVENT
DTSTART;VALUE=DATE:20180907
DTEND;VALUE=DATE:20180908
DTSTAMP:20260424T091154
CREATED:20181019T011616Z
LAST-MODIFIED:20181019T011616Z
UID:4935-1536278400-1536364799@midland.stdistricts.com
SUMMARY:Carver Center
DESCRIPTION:
URL:http://midland.stdistricts.com/event/carver-center-78/
LOCATION:Carver Center\, United States
END:VEVENT
END:VCALENDAR