BEGIN:VCALENDAR
VERSION:2.0
PRODID:-//Midland Independent School District - ECPv5.3.2.1//NONSGML v1.0//EN
CALSCALE:GREGORIAN
METHOD:PUBLISH
X-WR-CALNAME:Midland Independent School District
X-ORIGINAL-URL:http://midland.stdistricts.com
X-WR-CALDESC:Events for Midland Independent School District
BEGIN:VTIMEZONE
TZID:UTC
BEGIN:STANDARD
TZOFFSETFROM:+0000
TZOFFSETTO:+0000
TZNAME:UTC
DTSTART:20180101T000000
END:STANDARD
END:VTIMEZONE
BEGIN:VEVENT
DTSTART;VALUE=DATE:20180209
DTEND;VALUE=DATE:20180210
DTSTAMP:20260424T071253
CREATED:20180314T121942Z
LAST-MODIFIED:20180314T121942Z
UID:4802-1518134400-1518220799@midland.stdistricts.com
SUMMARY:Burnet ES
DESCRIPTION:
URL:http://midland.stdistricts.com/event/burnet-es-43/
LOCATION:Burnet ES\, United States
END:VEVENT
END:VCALENDAR