BEGIN:VCALENDAR
VERSION:2.0
PRODID:-//Midland Independent School District - ECPv5.3.2.1//NONSGML v1.0//EN
CALSCALE:GREGORIAN
METHOD:PUBLISH
X-WR-CALNAME:Midland Independent School District
X-ORIGINAL-URL:http://midland.stdistricts.com
X-WR-CALDESC:Events for Midland Independent School District
BEGIN:VTIMEZONE
TZID:UTC
BEGIN:STANDARD
TZOFFSETFROM:+0000
TZOFFSETTO:+0000
TZNAME:UTC
DTSTART:20220101T000000
END:STANDARD
END:VTIMEZONE
BEGIN:VEVENT
DTSTART;VALUE=DATE:20220516
DTEND;VALUE=DATE:20220517
DTSTAMP:20260424T090114
CREATED:20220401T142410Z
LAST-MODIFIED:20220518T182208Z
UID:5409-1652659200-1652745599@midland.stdistricts.com
SUMMARY:Bowie Fine Arts ES - PLC at Work
DESCRIPTION:
URL:http://midland.stdistricts.com/event/bowie-fine-arts-es-plc-at-work-4/
LOCATION:Bowie Fine Arts ES
CATEGORIES:Bowie Fine Arts ES,PLC at Work
END:VEVENT
END:VCALENDAR