BEGIN:VCALENDAR
VERSION:2.0
PRODID:-//Midland Independent School District - ECPv5.3.2.1//NONSGML v1.0//EN
CALSCALE:GREGORIAN
METHOD:PUBLISH
X-WR-CALNAME:Midland Independent School District
X-ORIGINAL-URL:http://midland.stdistricts.com
X-WR-CALDESC:Events for Midland Independent School District
BEGIN:VTIMEZONE
TZID:UTC
BEGIN:STANDARD
TZOFFSETFROM:+0000
TZOFFSETTO:+0000
TZNAME:UTC
DTSTART:20230101T000000
END:STANDARD
END:VTIMEZONE
BEGIN:VEVENT
DTSTART;VALUE=DATE:20230223
DTEND;VALUE=DATE:20230224
DTSTAMP:20260424T054317
CREATED:20221013T160653Z
LAST-MODIFIED:20230308T193439Z
UID:5783-1677110400-1677196799@midland.stdistricts.com
SUMMARY:Bowie FA - PLC at Work
DESCRIPTION:
URL:http://midland.stdistricts.com/event/bowie-fa-plc-at-work-3/
LOCATION:Bowie FA
CATEGORIES:Bowie FA,PLC at Work
END:VEVENT
END:VCALENDAR