BEGIN:VCALENDAR
VERSION:2.0
PRODID:-//Midland Independent School District - ECPv5.3.2.1//NONSGML v1.0//EN
CALSCALE:GREGORIAN
METHOD:PUBLISH
X-WR-CALNAME:Midland Independent School District
X-ORIGINAL-URL:http://midland.stdistricts.com
X-WR-CALDESC:Events for Midland Independent School District
BEGIN:VTIMEZONE
TZID:UTC
BEGIN:STANDARD
TZOFFSETFROM:+0000
TZOFFSETTO:+0000
TZNAME:UTC
DTSTART:20200101T000000
END:STANDARD
END:VTIMEZONE
BEGIN:VEVENT
DTSTART;VALUE=DATE:20200213
DTEND;VALUE=DATE:20200214
DTSTAMP:20260424T071443
CREATED:20200213T154334Z
LAST-MODIFIED:20200213T154334Z
UID:5252-1581552000-1581638399@midland.stdistricts.com
SUMMARY:Bonham ES - PLC Coaching Day
DESCRIPTION:
URL:http://midland.stdistricts.com/event/bonham-es-plc-coaching-day-4/
LOCATION:Bonham ES\, United States
CATEGORIES:PLC Coaching Day
END:VEVENT
END:VCALENDAR