BEGIN:VCALENDAR
VERSION:2.0
PRODID:-//Midland Independent School District - ECPv5.3.2.1//NONSGML v1.0//EN
CALSCALE:GREGORIAN
METHOD:PUBLISH
X-WR-CALNAME:Midland Independent School District
X-ORIGINAL-URL:http://midland.stdistricts.com
X-WR-CALDESC:Events for Midland Independent School District
BEGIN:VTIMEZONE
TZID:UTC
BEGIN:STANDARD
TZOFFSETFROM:+0000
TZOFFSETTO:+0000
TZNAME:UTC
DTSTART:20230101T000000
END:STANDARD
END:VTIMEZONE
BEGIN:VEVENT
DTSTART;VALUE=DATE:20230327
DTEND;VALUE=DATE:20230328
DTSTAMP:20260424T012445
CREATED:20230126T200100Z
LAST-MODIFIED:20230405T205356Z
UID:6027-1679875200-1679961599@midland.stdistricts.com
SUMMARY:Bonham ES - PLC at Work
DESCRIPTION:
URL:http://midland.stdistricts.com/event/bonham-es-plc-at-work-10/
LOCATION:Bonham ES\, United States
CATEGORIES:Bonham ES,PLC at Work
END:VEVENT
END:VCALENDAR