BEGIN:VCALENDAR
VERSION:2.0
PRODID:-//Midland Independent School District - ECPv5.3.2.1//NONSGML v1.0//EN
CALSCALE:GREGORIAN
METHOD:PUBLISH
X-WR-CALNAME:Midland Independent School District
X-ORIGINAL-URL:http://midland.stdistricts.com
X-WR-CALDESC:Events for Midland Independent School District
BEGIN:VTIMEZONE
TZID:UTC
BEGIN:STANDARD
TZOFFSETFROM:+0000
TZOFFSETTO:+0000
TZNAME:UTC
DTSTART:20170101T000000
END:STANDARD
END:VTIMEZONE
BEGIN:VEVENT
DTSTART;VALUE=DATE:20171018
DTEND;VALUE=DATE:20171020
DTSTAMP:20260424T073117
CREATED:20171027T140714Z
LAST-MODIFIED:20171207T191320Z
UID:3782-1508284800-1508457599@midland.stdistricts.com
SUMMARY:AP and Principal Training
DESCRIPTION:
URL:http://midland.stdistricts.com/event/ap-and-principal-training/
LOCATION:AP and Principal Training\, United States
END:VEVENT
END:VCALENDAR